BEGIN:VCALENDAR
PRODID:-//eluceo/ical//2.0/EN
VERSION:2.0
CALSCALE:GREGORIAN
BEGIN:VEVENT
UID:23dfc627be6d4b0972d3104d6664f735
DTSTAMP:20260425T132850Z
SUMMARY:ISSS: Jak AI pomáhá veřejné správě – diskusní blok
DTSTART:20240513T123000
DTEND:20240513T133000
LOCATION:Eliščin sál
END:VEVENT
END:VCALENDAR
