BEGIN:VCALENDAR
PRODID:-//eluceo/ical//2.0/EN
VERSION:2.0
CALSCALE:GREGORIAN
BEGIN:VEVENT
UID:c535026c9872941a92686beebe99feb1
DTSTAMP:20260425T132813Z
SUMMARY:ISSS: Vize využití AI v systémech veřejné správy
DTSTART:20240513T133000
DTEND:20240513T134500
LOCATION:Eliščin sál
END:VEVENT
END:VCALENDAR
