BEGIN:VCALENDAR
PRODID:-//eluceo/ical//2.0/EN
VERSION:2.0
CALSCALE:GREGORIAN
BEGIN:VEVENT
UID:9fc14cdffccbdbc061ec6e2579970142
DTSTAMP:20260425T132840Z
SUMMARY:ISSS: AI připravuje podklady pro správní rozhodování
DTSTART:20240513T134500
DTEND:20240513T140000
LOCATION:Eliščin sál
END:VEVENT
END:VCALENDAR
