BEGIN:VCALENDAR
PRODID:-//eluceo/ical//2.0/EN
VERSION:2.0
CALSCALE:GREGORIAN
BEGIN:VEVENT
UID:a3ca1b507b9f9270cc25e4a7732b0086
DTSTAMP:20260425T132953Z
SUMMARY:ISSS: Digitální asistent vyšetřovatele
DTSTART:20240513T140000
DTEND:20240513T141500
LOCATION:Eliščin sál
END:VEVENT
END:VCALENDAR
