BEGIN:VCALENDAR
PRODID:-//eluceo/ical//2.0/EN
VERSION:2.0
CALSCALE:GREGORIAN
BEGIN:VEVENT
UID:8fcf7d3b1b987df034a762d65a898963
DTSTAMP:20260425T133137Z
SUMMARY:ISSS: Využití AI v HR procesech Police ČR
DTSTART:20240513T141500
DTEND:20240513T143000
LOCATION:Eliščin sál
END:VEVENT
END:VCALENDAR
