BEGIN:VCALENDAR
PRODID:-//eluceo/ical//2.0/EN
VERSION:2.0
CALSCALE:GREGORIAN
BEGIN:VEVENT
UID:c8327601a30f5d9675336d4e218cd858
DTSTAMP:20260425T133149Z
SUMMARY:ISSS: AI asistent klienta MPSV
DTSTART:20240513T151000
DTEND:20240513T152500
LOCATION:Eliščin sál
END:VEVENT
END:VCALENDAR
