BEGIN:VCALENDAR
PRODID:-//eluceo/ical//2.0/EN
VERSION:2.0
CALSCALE:GREGORIAN
BEGIN:VEVENT
UID:d9d6c7cd17b7df0ae06f58345fd188a9
DTSTAMP:20260425T132828Z
SUMMARY:ISSS: Vy zíráte\, my zíráme. Vizor.
DTSTART:20240513T152500
DTEND:20240513T154000
LOCATION:Eliščin sál
END:VEVENT
END:VCALENDAR
