BEGIN:VCALENDAR
PRODID:-//eluceo/ical//2.0/EN
VERSION:2.0
CALSCALE:GREGORIAN
BEGIN:VEVENT
UID:c8abda14fc9738cf6d3a3468e3bd21d5
DTSTAMP:20260425T132830Z
SUMMARY:ISSS: AI v prostředí Státního cloudu
DTSTART:20240513T154000
DTEND:20240513T155500
LOCATION:Eliščin sál
END:VEVENT
END:VCALENDAR
