BEGIN:VCALENDAR
PRODID:-//eluceo/ical//2.0/EN
VERSION:2.0
CALSCALE:GREGORIAN
BEGIN:VEVENT
UID:06de23a55f882a4bc573e8af77ed0a7d
DTSTAMP:20260425T132830Z
SUMMARY:ISSS: Využití AI pro navigační rámec
DTSTART:20240513T155500
DTEND:20240513T160500
LOCATION:Eliščin sál
END:VEVENT
END:VCALENDAR
