BEGIN:VCALENDAR
PRODID:-//eluceo/ical//2.0/EN
VERSION:2.0
CALSCALE:GREGORIAN
BEGIN:VEVENT
UID:a6d59d576908be819e39bb4a400d6f44
DTSTAMP:20260425T132632Z
SUMMARY:ISSS: AI v řešení Axians
DTSTART:20240513T162000
DTEND:20240513T164000
LOCATION:Eliščin sál
END:VEVENT
END:VCALENDAR
