BEGIN:VCALENDAR
PRODID:-//eluceo/ical//2.0/EN
VERSION:2.0
CALSCALE:GREGORIAN
BEGIN:VEVENT
UID:7c02c00c1f6a6a68c60613dcf1a2e327
DTSTAMP:20260425T132701Z
SUMMARY:ISSS: Setkání Komise pro digitalizaci a elektronizaci Svazu měst
  a obcí ČR a Komise Rady Asociace krajů ČR pro informatiku s členy P
 arlamentu ČR (uzavřené jednání)
DTSTART:20240513T170000
DTEND:20240513T183000
LOCATION:Eliščin sál
END:VEVENT
END:VCALENDAR
