BEGIN:VCALENDAR
PRODID:-//eluceo/ical//2.0/EN
VERSION:2.0
CALSCALE:GREGORIAN
BEGIN:VEVENT
UID:3fb6c4cc8ddab06333ef21f32e49237d
DTSTAMP:20260425T132851Z
SUMMARY:ISSS: eGovernment Cloud
DTSTART:20240513T123000
DTEND:20240513T124500
LOCATION:Jednací sál
END:VEVENT
END:VCALENDAR
