BEGIN:VCALENDAR
PRODID:-//eluceo/ical//2.0/EN
VERSION:2.0
CALSCALE:GREGORIAN
BEGIN:VEVENT
UID:a2eeb6e9486a27eb9dce5c599e4d9fd3
DTSTAMP:20260425T132838Z
SUMMARY:ISSS: Cloud\, ale bezpečně aneb co skrývají tzv. cloudové vyhl
 ášky?
DTSTART:20240513T130000
DTEND:20240513T131000
LOCATION:Jednací sál
END:VEVENT
END:VCALENDAR
