BEGIN:VCALENDAR
PRODID:-//eluceo/ical//2.0/EN
VERSION:2.0
CALSCALE:GREGORIAN
BEGIN:VEVENT
UID:16da5829be6a7d9ab92fdc2c85172584
DTSTAMP:20260425T133149Z
SUMMARY:ISSS: My do toho cloudu prostě nemůžeme!
DTSTART:20240513T134000
DTEND:20240513T144000
LOCATION:Jednací sál
END:VEVENT
END:VCALENDAR
