BEGIN:VCALENDAR
PRODID:-//eluceo/ical//2.0/EN
VERSION:2.0
CALSCALE:GREGORIAN
BEGIN:VEVENT
UID:0dde4dbbb3e38cadffa8f75754e0fa5d
DTSTAMP:20260425T132700Z
SUMMARY:ISSS: Datový sklad Královéhradeckého kraje a jeho využití
DTSTART:20240513T144500
DTEND:20240513T145500
LOCATION:Jednací sál
END:VEVENT
END:VCALENDAR
