BEGIN:VCALENDAR
PRODID:-//eluceo/ical//2.0/EN
VERSION:2.0
CALSCALE:GREGORIAN
BEGIN:VEVENT
UID:400b6a799c955f21f1756b011b16c305
DTSTAMP:20260425T132710Z
SUMMARY:ISSS: Low-code: Cesta k rychlé a efektivní digitalizaci státní
  správy po vzoru dalších států v EU
DTSTART:20240513T145500
DTEND:20240513T151000
LOCATION:Jednací sál
END:VEVENT
END:VCALENDAR
