BEGIN:VCALENDAR
PRODID:-//eluceo/ical//2.0/EN
VERSION:2.0
CALSCALE:GREGORIAN
BEGIN:VEVENT
UID:55b1afa3cf86e5f7bffc7cb52ba63ea2
DTSTAMP:20260425T132700Z
SUMMARY:ISSS: Objevte výhody spojení VMware a Broadcom
DTSTART:20240513T151000
DTEND:20240513T152000
LOCATION:Jednací sál
END:VEVENT
END:VCALENDAR
