BEGIN:VCALENDAR
PRODID:-//eluceo/ical//2.0/EN
VERSION:2.0
CALSCALE:GREGORIAN
BEGIN:VEVENT
UID:f1bd161008930775508bc3767c3a91a2
DTSTAMP:20260425T132701Z
SUMMARY:ISSS: Národní sportovní agentura provozuje GINIS v cloudu Azure
DTSTART:20240513T152000
DTEND:20240513T153500
LOCATION:Jednací sál
END:VEVENT
END:VCALENDAR
