BEGIN:VCALENDAR
PRODID:-//eluceo/ical//2.0/EN
VERSION:2.0
CALSCALE:GREGORIAN
BEGIN:VEVENT
UID:87c3348332c6f9441b6e5ad15a6b52f5
DTSTAMP:20260425T132812Z
SUMMARY:ISSS: Klíčová role datového trezoru v koncepci zabezpečení i
 nformací
DTSTART:20240513T153500
DTEND:20240513T154500
LOCATION:Jednací sál
END:VEVENT
END:VCALENDAR
