BEGIN:VCALENDAR
PRODID:-//eluceo/ical//2.0/EN
VERSION:2.0
CALSCALE:GREGORIAN
BEGIN:VEVENT
UID:9ddff6bd735225899fc2a39f145ffb7f
DTSTAMP:20260425T132702Z
SUMMARY:ISSS: Low-Code jako cesta k digitální dekádě
DTSTART:20240513T154500
DTEND:20240513T155500
LOCATION:Jednací sál
END:VEVENT
END:VCALENDAR
