BEGIN:VCALENDAR
PRODID:-//eluceo/ical//2.0/EN
VERSION:2.0
CALSCALE:GREGORIAN
BEGIN:VEVENT
UID:087dd2f036f15725c647da21e22ca488
DTSTAMP:20260425T132630Z
SUMMARY:ISSS: Kybernetická bezpečnost ve veřejné správě – Diskusn
 í blok
DTSTART:20240513T160000
DTEND:20240513T173000
LOCATION:Jednací sál
END:VEVENT
END:VCALENDAR
