BEGIN:VCALENDAR
PRODID:-//eluceo/ical//2.0/EN
VERSION:2.0
CALSCALE:GREGORIAN
BEGIN:VEVENT
UID:d535c2e8a32f0e876d8c5ddb8c6a7355
DTSTAMP:20260425T133114Z
SUMMARY:ISSS: Stav elektronizace zdravotnictví
DTSTART:20240513T090000
DTEND:20240513T091500
LOCATION:Labský sál
END:VEVENT
END:VCALENDAR
