BEGIN:VCALENDAR
PRODID:-//eluceo/ical//2.0/EN
VERSION:2.0
CALSCALE:GREGORIAN
BEGIN:VEVENT
UID:b7bc27fc5ca8a9657650138d205c9137
DTSTAMP:20260425T132710Z
SUMMARY:ISSS: Projekty Národního centra elektronického zdravotnictví (N
 CEZ)
DTSTART:20240513T091500
DTEND:20240513T093000
LOCATION:Labský sál
END:VEVENT
END:VCALENDAR
