BEGIN:VCALENDAR
PRODID:-//eluceo/ical//2.0/EN
VERSION:2.0
CALSCALE:GREGORIAN
BEGIN:VEVENT
UID:24e26224ba87e6cde459cccca587d18b
DTSTAMP:20260425T132828Z
SUMMARY:ISSS: Evropské nařízení EHDS – současný stav
DTSTART:20240513T093000
DTEND:20240513T094500
LOCATION:Labský sál
END:VEVENT
END:VCALENDAR
