BEGIN:VCALENDAR
PRODID:-//eluceo/ical//2.0/EN
VERSION:2.0
CALSCALE:GREGORIAN
BEGIN:VEVENT
UID:7080ef6bf66c64bef61506b7e8e865f2
DTSTAMP:20260425T132812Z
SUMMARY:ISSS: Nová databáze léků – snadný přístup k informacím 
 pro odbornou i laickou veřejnost
DTSTART:20240513T094500
DTEND:20240513T100000
LOCATION:Labský sál
END:VEVENT
END:VCALENDAR
