BEGIN:VCALENDAR
PRODID:-//eluceo/ical//2.0/EN
VERSION:2.0
CALSCALE:GREGORIAN
BEGIN:VEVENT
UID:baadcc4bc6abb3f7ce7b06ccd8e9ea2e
DTSTAMP:20260425T132852Z
SUMMARY:ISSS: eRecept – 6 let provozu a nové výzvy
DTSTART:20240513T123000
DTEND:20240513T124500
LOCATION:Labský sál
END:VEVENT
END:VCALENDAR
