BEGIN:VCALENDAR
PRODID:-//eluceo/ical//2.0/EN
VERSION:2.0
CALSCALE:GREGORIAN
BEGIN:VEVENT
UID:f9a2dd168bcf13be8c334077417142dd
DTSTAMP:20260425T132712Z
SUMMARY:ISSS: VITAKARTA flexí
DTSTART:20240513T124500
DTEND:20240513T131500
LOCATION:Labský sál
END:VEVENT
END:VCALENDAR
