BEGIN:VCALENDAR
PRODID:-//eluceo/ical//2.0/EN
VERSION:2.0
CALSCALE:GREGORIAN
BEGIN:VEVENT
UID:b863bd13d3b2c483985f440882ac131d
DTSTAMP:20260425T132543Z
SUMMARY:ISSS: Interoperabilita ve zdravotnictví – zkušenosti se zavád
 ěním standardů u nás a v zahraničí
DTSTART:20240513T131500
DTEND:20240513T133000
LOCATION:Labský sál
END:VEVENT
END:VCALENDAR
