BEGIN:VCALENDAR
PRODID:-//eluceo/ical//2.0/EN
VERSION:2.0
CALSCALE:GREGORIAN
BEGIN:VEVENT
UID:083cf283ca4700271c8cd4d1fe0be91c
DTSTAMP:20260425T132813Z
SUMMARY:ISSS: Národní kontaktní místo pro eHealth (NCPeH)
DTSTART:20240513T133000
DTEND:20240513T134000
LOCATION:Labský sál
END:VEVENT
END:VCALENDAR
