BEGIN:VCALENDAR
PRODID:-//eluceo/ical//2.0/EN
VERSION:2.0
CALSCALE:GREGORIAN
BEGIN:VEVENT
UID:fc21796f7b6726acd1114af95bff242b
DTSTAMP:20260425T132542Z
SUMMARY:ISSS: Elektronizace zdravotnictví z pohledu pacientských organiz
 ací
DTSTART:20240513T134000
DTEND:20240513T135000
LOCATION:Labský sál
END:VEVENT
END:VCALENDAR
