BEGIN:VCALENDAR
PRODID:-//eluceo/ical//2.0/EN
VERSION:2.0
CALSCALE:GREGORIAN
BEGIN:VEVENT
UID:48a8a151d79f097565f1d43148afe7f6
DTSTAMP:20260425T132631Z
SUMMARY:ISSS: Služby sdružení CESNET pro zdravotnictví
DTSTART:20240513T135000
DTEND:20240513T140000
LOCATION:Labský sál
END:VEVENT
END:VCALENDAR
