BEGIN:VCALENDAR
PRODID:-//eluceo/ical//2.0/EN
VERSION:2.0
CALSCALE:GREGORIAN
BEGIN:VEVENT
UID:54bcf760d81c5ec4c55585f25c03e386
DTSTAMP:20260425T132542Z
SUMMARY:ISSS: Digitalizace zdravotnictví – čas běží
DTSTART:20240513T140000
DTEND:20240513T141000
LOCATION:Labský sál
END:VEVENT
END:VCALENDAR
