BEGIN:VCALENDAR
PRODID:-//eluceo/ical//2.0/EN
VERSION:2.0
CALSCALE:GREGORIAN
BEGIN:VEVENT
UID:51662fb5eaee18dcb481431de299e4cb
DTSTAMP:20260425T132839Z
SUMMARY:ISSS: Moderní informační systém zdravotní pojišťovny – V
 ýdajová část
DTSTART:20240513T141000
DTEND:20240513T144000
LOCATION:Labský sál
END:VEVENT
END:VCALENDAR
