BEGIN:VCALENDAR
PRODID:-//eluceo/ical//2.0/EN
VERSION:2.0
CALSCALE:GREGORIAN
BEGIN:VEVENT
UID:3252ca0509de46c0c88ebe95e7f41a65
DTSTAMP:20260425T132543Z
SUMMARY:ISSS: Metody pro zlepšení uživatelského rozhraní digitálních
  služeb veřejné správy
DTSTART:20240513T145500
DTEND:20240513T150500
LOCATION:Labský sál
END:VEVENT
END:VCALENDAR
