BEGIN:VCALENDAR
PRODID:-//eluceo/ical//2.0/EN
VERSION:2.0
CALSCALE:GREGORIAN
BEGIN:VEVENT
UID:6ce15ed02b6ba2a2a8b87220720a06c1
DTSTAMP:20260425T132544Z
SUMMARY:ISSS: Žádost o důchod online
DTSTART:20240513T150500
DTEND:20240513T152000
LOCATION:Labský sál
END:VEVENT
END:VCALENDAR
