BEGIN:VCALENDAR
PRODID:-//eluceo/ical//2.0/EN
VERSION:2.0
CALSCALE:GREGORIAN
BEGIN:VEVENT
UID:ba50b3dce88a9672cad13a40ab28b360
DTSTAMP:20260425T132849Z
SUMMARY:ISSS: Portál AMS – kde jsme a kam směřujeme
DTSTART:20240513T152000
DTEND:20240513T153500
LOCATION:Labský sál
END:VEVENT
END:VCALENDAR
