BEGIN:VCALENDAR
PRODID:-//eluceo/ical//2.0/EN
VERSION:2.0
CALSCALE:GREGORIAN
BEGIN:VEVENT
UID:b18cc52756d46649da60e6af5a77960c
DTSTAMP:20260425T133135Z
SUMMARY:ISSS: Portál ČÚZK
DTSTART:20240513T153500
DTEND:20240513T154500
LOCATION:Labský sál
END:VEVENT
END:VCALENDAR
