BEGIN:VCALENDAR
PRODID:-//eluceo/ical//2.0/EN
VERSION:2.0
CALSCALE:GREGORIAN
BEGIN:VEVENT
UID:e690ba8742df3b7e28f96059513081de
DTSTAMP:20260425T132712Z
SUMMARY:ISSS: Vizualizační portál Českého telekomunikačního úřadu
DTSTART:20240513T154500
DTEND:20240513T155500
LOCATION:Labský sál
END:VEVENT
END:VCALENDAR
