BEGIN:VCALENDAR
PRODID:-//eluceo/ical//2.0/EN
VERSION:2.0
CALSCALE:GREGORIAN
BEGIN:VEVENT
UID:f8bb861cee9e8293652c70f4b8ae4967
DTSTAMP:20260425T133114Z
SUMMARY:ISSS: Portál podnikatele
DTSTART:20240513T160000
DTEND:20240513T161500
LOCATION:Labský sál
END:VEVENT
END:VCALENDAR
