BEGIN:VCALENDAR
PRODID:-//eluceo/ical//2.0/EN
VERSION:2.0
CALSCALE:GREGORIAN
BEGIN:VEVENT
UID:2d37ddaf58178c6b1abe5eb1d9ebf0d5
DTSTAMP:20260425T133150Z
SUMMARY:ISSS: Portál dopravy – jedno místo pro všechny digitální sl
 užby v agendách dopravy
DTSTART:20240513T161500
DTEND:20240513T163000
LOCATION:Labský sál
END:VEVENT
END:VCALENDAR
