BEGIN:VCALENDAR
PRODID:-//eluceo/ical//2.0/EN
VERSION:2.0
CALSCALE:GREGORIAN
BEGIN:VEVENT
UID:c0150c1652c88ff0261621c268bd87f0
DTSTAMP:20260425T150314Z
SUMMARY:ISSS: Digitalizace – naplnění všech principů\, podmínek a j
 ejich identifikace
DTSTART:20240513T163000
DTEND:20240513T164000
LOCATION:Labský sál
END:VEVENT
END:VCALENDAR
