BEGIN:VCALENDAR
PRODID:-//eluceo/ical//2.0/EN
VERSION:2.0
CALSCALE:GREGORIAN
BEGIN:VEVENT
UID:6224defd76aeecd0ef540e5c3043de8a
DTSTAMP:20260425T132838Z
SUMMARY:ISSS: Jednotný personální a mzdový systém pro organizace korpo
 race Moravskoslezský kraj
DTSTART:20240513T164000
DTEND:20240513T165000
LOCATION:Labský sál
END:VEVENT
END:VCALENDAR
