BEGIN:VCALENDAR
PRODID:-//eluceo/ical//2.0/EN
VERSION:2.0
CALSCALE:GREGORIAN
BEGIN:VEVENT
UID:2be27ba9ba6829a9a5d8f6afe0210fa8
DTSTAMP:20260425T133117Z
SUMMARY:ISSS: Setkání tajemníků městských a obecních úřadů (uzav
 řené jednání)
DTSTART:20240513T161500
DTEND:20240513T174500
LOCATION:Visegrádský salonek
END:VEVENT
END:VCALENDAR
