BEGIN:VCALENDAR
PRODID:-//eluceo/ical//2.0/EN
VERSION:2.0
CALSCALE:GREGORIAN
BEGIN:VEVENT
UID:c0b51c73f1b92a67c315019fb0550ae4
DTSTAMP:20260425T133004Z
SUMMARY:ISSS: Co se děje v IS Munis?
DTSTART:20240513T092000
DTEND:20240513T093000
LOCATION:Expozice Triada
END:VEVENT
END:VCALENDAR
