BEGIN:VCALENDAR
PRODID:-//eluceo/ical//2.0/EN
VERSION:2.0
CALSCALE:GREGORIAN
BEGIN:VEVENT
UID:779ef6768ed4dff110340b1263e4a997
DTSTAMP:20260425T132947Z
SUMMARY:ISSS: IS Munis v cloudu
DTSTART:20240513T132000
DTEND:20240513T133000
LOCATION:Expozice Triada
END:VEVENT
END:VCALENDAR
