BEGIN:VCALENDAR
PRODID:-//eluceo/ical//2.0/EN
VERSION:2.0
CALSCALE:GREGORIAN
BEGIN:VEVENT
UID:e3fd47d83760de4f9f678740d11d35bb
DTSTAMP:20260425T133018Z
SUMMARY:ISSS: Atestace spisových služeb a její aspekty
DTSTART:20240513T142000
DTEND:20240513T143000
LOCATION:Expozice Triada
END:VEVENT
END:VCALENDAR
