BEGIN:VCALENDAR
PRODID:-//eluceo/ical//2.0/EN
VERSION:2.0
CALSCALE:GREGORIAN
BEGIN:VEVENT
UID:7e4a313e3441d19fb933529a22d701a3
DTSTAMP:20260425T133005Z
SUMMARY:ISSS: Automatická XML vrstva v PDF dokumentech
DTSTART:20240513T152000
DTEND:20240513T153000
LOCATION:Expozice Triada
END:VEVENT
END:VCALENDAR
