BEGIN:VCALENDAR
PRODID:-//eluceo/ical//2.0/EN
VERSION:2.0
CALSCALE:GREGORIAN
BEGIN:VEVENT
UID:394cdaea9e167558eb9c4c459c5ac600
DTSTAMP:20260425T132814Z
SUMMARY:ISSS: Evidence smluv a její vazby
DTSTART:20240513T162000
DTEND:20240513T163000
LOCATION:Expozice Triada
END:VEVENT
END:VCALENDAR
