BEGIN:VCALENDAR
PRODID:-//eluceo/ical//2.0/EN
VERSION:2.0
CALSCALE:GREGORIAN
BEGIN:VEVENT
UID:132630129e9931ac6652feab1c65745e
DTSTAMP:20260425T150002Z
SUMMARY:ISSS: Služby NÚKIB
DTSTART:20240514T091500
DTEND:20240514T093500
LOCATION:Velký sál
END:VEVENT
END:VCALENDAR
