BEGIN:VCALENDAR
PRODID:-//eluceo/ical//2.0/EN
VERSION:2.0
CALSCALE:GREGORIAN
BEGIN:VEVENT
UID:fd25667b7ffc11f08caa6db774a6047f
DTSTAMP:20260425T150109Z
SUMMARY:ISSS: Zajištění komplexních služeb kybernetické bezpečnosti
DTSTART:20240514T093500
DTEND:20240514T100500
LOCATION:Velký sál
END:VEVENT
END:VCALENDAR
